BEGIN:VCALENDAR
VERSION:2.0
PRODID:icalendar-ruby
CALSCALE:GREGORIAN
METHOD:PUBLISH
BEGIN:VEVENT
DTSTAMP:20260422T115847Z
UID:230-393708@fpgchurch.com
DTSTART:20260524T160000Z
DTEND:20260524T160000Z
CLASS:PUBLIC
CREATED:20260415T125042
DESCRIPTION:Calling all Class of 2026 Seniors\n Join us for a special Sunda
 y morning service where we will honor our graduates. Be sure to scan the Q
 R Code to register so we can recognize you and your achievements. Bring yo
 ur cap and gown to be presented and prayed for.
LAST-MODIFIED:20260415T125042
LOCATION: 4501 W Expressway 83\, Harlingen\, TX\, United States\, Texas 785
 52
SUMMARY:High School Graduates Presentation
URL;VALUE=URI:https://fpgchurch.com/events/high-school-graduates-presentati
 on--230/2026-05-24
ATTACH;FILENAME=2026-GRADUATES-1.jpg;FMTTYPE=image/jpeg:https://dq5pwpg1q8r
 u0.cloudfront.net/2026/04/15/17/50/42/6c67e693-275c-45e0-b05f-d7486a3bb043
 /2026-GRADUATES-1.jpg
END:VEVENT
END:VCALENDAR
