BEGIN:VCALENDAR
VERSION:2.0
PRODID:icalendar-ruby
CALSCALE:GREGORIAN
METHOD:PUBLISH
BEGIN:VEVENT
DTSTAMP:20260422T115326Z
UID:229-391386@fpgchurch.com
DTSTART:20260510T160000Z
DTEND:20260510T180000Z
CLASS:PUBLIC
CREATED:20260414T170055
DESCRIPTION:Don't miss our special Mother's Day Celebration Sunday\, May 10
 th at 11 AM at FPG Church! We'll be honoring all mothers and each mom will
  receive a FREE family portrait picture to cherish\, a special gift\, and 
 a tasty treat! We can't wait to celebrate with you and your family.
LAST-MODIFIED:20260414T170055
LOCATION: 4501 W Expressway 83\, Harlingen\, TX\, United States\, Texas 785
 52
SUMMARY:Family Picture Day
URL;VALUE=URI:https://fpgchurch.com/events/family-picture-day/2026-05-10
ATTACH;FILENAME=2026-2.jpg;FMTTYPE=image/jpeg:https://dq5pwpg1q8ru0.cloudfr
 ont.net/2026/04/14/22/00/55/055e26c5-52df-4125-b17b-54d70dd019c3/2026-2.jp
 g
END:VEVENT
END:VCALENDAR
